BEGIN:VCALENDAR
PRODID:-//Flo Inc.//FloSoft//EN
BEGIN:VEVENT
DTSTART;TZID='Perth':20190302T153000
DTEND;TZID='Perth':20190302T161500
LOCATION:8/10 Parnell Avenue, Marmion
DESCRIPTION;ENCODING=ESCAPED-CHAR:Over 55's Strata Titled Villa\n\nPerfectly located in this much sought after suburb, only minutes away from pristine beaches, shopping centres and recreational facilities. \n\nStep inside this lovely villa and appreciate the light and bright presentation and offering easy care living at its best.\n\n2 good size bedrooms, main with built-in robes. Bathroom, laundry and separate toilet.\n\nGenerous size separate lounge. Reverse cycle air conditioner.\n\nModern refurbished kitchen with new cooker, benchtop and floor coverings.\n\n79 sqm of living space. Total area of 95 sqm.    Gas Hot Water system.\n\nExternal\nDelightful front and rear enclosed patios.\nOwn covered car bay, store room and community centre.\n\nLocal Area\nAdjacent to well maintained park\nShort distance to Marmion shopping centre, Percy Doyle Reserve, library and Duncraig medical centre.\n\nShire Rates: $1,104.  Water Rate $949. Strata Levy: $450 per quarter.\n\nThis truly is a lifestyle choice, all you could want with privacy, security and location but without the high maintenance. This is one property you will not want to miss!\n\nPhone now to inspect, and be in for Christmas!
SUMMARY:8/10 Parnell Avenue, Marmion at Seniors Own Real Estate
PRIORITY:3
END:VEVENT
END:VCALENDAR
