BEGIN:VCALENDAR
PRODID:-//Flo Inc.//FloSoft//EN
BEGIN:VEVENT
DTSTART;TZID='Perth':20190307T110000
DTEND;TZID='Perth':20190307T123000
LOCATION:71/3A Moolanda Boulevard, Kingsley
DESCRIPTION;ENCODING=ESCAPED-CHAR:Be among the first to enjoy the next stage in retirement living and view this individually designed home with all the space and creature comforts you have been dreaming about.\n\nWith 99sqm of living on a total area of 183sqm you will not be short of space. A very generous living combined dining area opens out to a large north facing alfresco and internally high north east facing windows capture light and airflow with remote controlled louvres.\n\nA large single garage with a remote door and a separate storeroom with a roller door, which could easily serve as a workshop, are easily accessible from the private courtyard. The alfresco is timber lined and has a ceiling fan and the drying area is quite separate and out of view. \n\nWith a 7 - star energy rating you have the potential to reduce your running costs with a reduction in the energy required to heat and cool the home, achieved by the use of good passive solar and site specific design. The home also includes LED lighting, ceiling fans to key areas, solar panels for energy savings, a solar hot water system, water saving fittings and insulated ceilings.\n\nAn interior designer was selected with experience in the retirement living industry to create a home with a modern, warm, comfortable feeling, incorporating a high aesthetic standard expected by this generation of retirees.\n\nFeatures such as split system air conditioners, Bosch stainless steel appliances including a dishwasher, timber floors, stone engineered benchtops, skirting boards, an alfresco area with feature light wells, Crimsafe style security doors and windows, a monitored emergency and security system and an intercom have our discerning buyer in mind.\n \nThis home has also been designed for adaptable living as your needs change. Access is easier with wider doorways and passages, flush thresholds and hob-less showers, water mixers, lever door handles, larger switches, GPO points 450mm from floor level and the oven and microwave at an accessible height allowing for increased usability.\n\nThe 12 homes are strategically built around a landscaped village green and with connecting pathways to the communal amenities within Corinthian Court Village. \n\nThe Corinthian Court village presently consists of 38 2 bedroom plus study homes and 26 one bedroom homes and offers a large community clubhouse for social activities and village events, an outdoor swimming pool, gym, synthetic bowling green, library, men's shed/workshop, pool table and BBQ area.\n\nThe village is well positioned for public transport; bus and train, and access to the freeway. Hillarys boat harbour and Kingsway shopping centre are closeby. \n \nBe Quick! We are open every Thursday and Saturday at 11.00am to 12.30pm and Robyn Craig is available for appointments. Phone her on 9243 1366 or 0418 464 269 at any time.
SUMMARY:71/3A Moolanda Boulevard, Kingsley at Seniors Own Real Estate
PRIORITY:3
END:VEVENT
END:VCALENDAR
