BEGIN:VCALENDAR
PRODID:-//Flo Inc.//FloSoft//EN
BEGIN:VEVENT
DTSTART;TZID='Perth':20190227T130000
DTEND;TZID='Perth':20190227T140000
LOCATION:91/71 Ruislip Street, Wembley
DESCRIPTION;ENCODING=ESCAPED-CHAR:Located inside the village, just a short stroll away from the residents' community centre this very spacious villa has a north facing aspect.\nA front courtyard offers a secluded spot to sit and enjoy the winter sun.\nThe single attached garage provides direct access into the villa through a shopper door.\n\nThe generous sized living room has a north facing window and the dining room looks out onto the central atrium\nThe well equipped kitchen has a stainless steel electric wall oven, stainless steel gas hotplate, fridge and microwave recesses, a brand new benchtop and overhead and under bench cupboards.\nThe master suite has a walk through robe with access to the semi ensuite bathroom. The 2nd bedroom has built in robes and also looks out into the atrium, the study (or 3rd bedroom) is at the rear of the villa with an aspect to the rear courtyard.\n\nThe good sized ensuite has a large shower, vanity, WC and heater lamps.\n\nThere is a separate laundry and a 2nd toilet.\n\nFeatures you will love about this property:\n>private north facing courtyard\n>direct access into the villa from the garage\n>storage space in the garage\n>new carpets and fresh paint\n>contemporary window treatments\n>split system reverse cycle air conditioning\n>two storage cupboards in the passage\n>heater lamps in the bathroom\n>wide passageways and doorways\n>large toggle light switches, power points 300mm above floor level for easy access\n>central atrium \n>low maintenance rear courtyard with a washing linen\n\n\nThe villa is equipped with wiring for voice/data (ADSL), Foxtel and comes with an emergency call monitoring system.\n\nMercy Retirement Village has a pet friendly policy.\nCall me today to view this lovely villa!
SUMMARY:91/71 Ruislip Street, Wembley at Seniors Own Real Estate
PRIORITY:3
END:VEVENT
END:VCALENDAR
