BEGIN:VCALENDAR
PRODID:-//Flo Inc.//FloSoft//EN
BEGIN:VEVENT
DTSTART;TZID='Perth':20190228T103000
DTEND;TZID='Perth':20190228T111500
LOCATION:15/91 Hybanthus Road, Ferndale
DESCRIPTION;ENCODING=ESCAPED-CHAR:This beautifully presented 3 bedroom (or 2 bedrooms plus study) Retirement Villa has been designed for easy ageing in place. \n\nFreshly painted and new carpets throughout - this villa feels like new!\n\nThe floor plan is open and bright and combines large rooms, high ceilings and wide passageways.\n\nThe master bedroom has a fabulous semi en-suite, huge wardrobe and lots of natural light.\n\nThe 2nd bedroom is positioned to rear of villa and has a guest powder room within easy reach.  The study (or 3rd bedroom) is to the front of the home and can be used as a hobby room, reading nook or bedroom for the grand kids.\n\nPlenty of storage throughout with BIR's, linen, laundry, pantry cupboards and storeroom.\n\nThe garage is super sized and has remote control door and internal access for easy transferring of the shopping.\n\nBe comfortable all year round with ducted reverse cycle air con, and enjoy total peace of mind with security doors, a monitored emergency call system and burglar alarm. \n\nOff the living is a private rear patio which is surrounded by greenery, and is generously designed for entertaining or enjoying a quiet cuppa.\n\nBuilt to adaptable specifications which include wider than normal passage and doorways, level surfaces, wheelchair accessible bathroom, hobless shower with removable door, raised power points and a wide single garage.\n\nEnjoy the convenience of onsite hairdressing, podiatry, medical clinic and dining room.\n\nThe residents clubhouse is a wonderful meeting place and compliments the community lifestyle.\n\nThis is a gated village and is part of the Howard Solomon Residential Estate which includes a 126 bed Residential Care Facility.  Living in this villa is ideal for a pathway to care should your circumstances change in the future (conditions apply).\n\nThis is a popular village and villas sell quickly so act fast!\n\nRegular home opens scheduled or open by appointment any time.\n\nNote - Virtual Furniture and Decor has been digitally inserted to demonstrate how the home can be furnished.
SUMMARY:15/91 Hybanthus Road, Ferndale at Seniors Own Real Estate
PRIORITY:3
END:VEVENT
END:VCALENDAR
