BEGIN:VCALENDAR
PRODID:-//Flo Inc.//FloSoft//EN
BEGIN:VEVENT
DTSTART;TZID='Perth':20190302T120000
DTEND;TZID='Perth':20190302T124500
LOCATION:4/108 Fern Road, Wilson
DESCRIPTION;ENCODING=ESCAPED-CHAR:This villa presents well and is near the front door of the clubhouse with a magic rear alfresco.
SUMMARY:4/108 Fern Road, Wilson at Seniors Own Real Estate
PRIORITY:3
END:VEVENT
END:VCALENDAR
