BEGIN:VCALENDAR
PRODID:-//Flo Inc.//FloSoft//EN
BEGIN:VEVENT
DTSTART;TZID='Perth':20190227T130000
DTEND;TZID='Perth':20190227T134000
LOCATION:29/80-82 Henley Street, Como
DESCRIPTION;ENCODING=ESCAPED-CHAR:This air-conditioned one bedroom retirement villa is located in Como's best kept secret...Meath Como Retirement Village.\n\nA great price and a great place to live especially now that the new Clubhouse and indoor heated swimming pool (with Gym) is now completed.\n\nThe village is nestled amongst Collier Park Golf Course, Como High School grounds and Karawarra Primary School grounds opposite, its almost like living in the country.\n\nIts a must see if you are of retirement age!
SUMMARY:29/80-82 Henley Street, Como at Seniors Own Real Estate
PRIORITY:3
END:VEVENT
END:VCALENDAR
